BEGIN:VCALENDAR
VERSION:2.0
PRODID:-//Nepal Multipurpose Co-operative Society Ltd. - ECPv4.6.22.1//NONSGML v1.0//EN
CALSCALE:GREGORIAN
METHOD:PUBLISH
X-WR-CALNAME:Nepal Multipurpose Co-operative Society Ltd.
X-ORIGINAL-URL:http://www.nmc.coop.np
X-WR-CALDESC:Events for Nepal Multipurpose Co-operative Society Ltd.
BEGIN:VEVENT
DTSTART;TZID=UTC+5.75:20180130T110000
DTEND;TZID=UTC+5.75:20180130T150000
DTSTAMP:20180903T115239
CREATED:20180105T071308Z
LAST-MODIFIED:20180105T071308Z
UID:2578-1517310000-1517324400@www.nmc.coop.np
SUMMARY:एकाइ परिषद बैठक
DESCRIPTION:Share this:Click to share on Twitter (Opens in new window)Click to share on Facebook (Opens in new window)Click to share on Google+ (Opens in new window)
URL:http://www.nmc.coop.np/event/%e0%a4%8f%e0%a4%95%e0%a4%be%e0%a4%87-%e0%a4%aa%e0%a4%b0%e0%a4%bf%e0%a4%b7%e0%a4%a6-%e0%a4%ac%e0%a5%88%e0%a4%a0%e0%a4%95/
END:VEVENT
END:VCALENDAR