BEGIN:VCALENDAR
VERSION:2.0
PRODID:-//Nepal Multipurpose Co-operative Society Ltd. - ECPv4.6.22.1//NONSGML v1.0//EN
CALSCALE:GREGORIAN
METHOD:PUBLISH
X-WR-CALNAME:Nepal Multipurpose Co-operative Society Ltd.
X-ORIGINAL-URL:http://www.nmc.coop.np
X-WR-CALDESC:Events for Nepal Multipurpose Co-operative Society Ltd.
BEGIN:VEVENT
DTSTART;TZID=UTC+5.75:20180227T130000
DTEND;TZID=UTC+5.75:20180227T160000
DTSTAMP:20180903T110127
CREATED:20180218T055110Z
LAST-MODIFIED:20180218T055110Z
UID:2641-1519736400-1519747200@www.nmc.coop.np
SUMMARY:Board Meeting
DESCRIPTION:Share this:Click to share on Twitter (Opens in new window)Click to share on Facebook (Opens in new window)Click to share on Google+ (Opens in new window)
URL:http://www.nmc.coop.np/event/board-meeting-3/
END:VEVENT
END:VCALENDAR